BEGIN:VCALENDAR
VERSION:2.0
PRODID:-//Military Outreach for Service - ECPv6.15.20//NONSGML v1.0//EN
CALSCALE:GREGORIAN
METHOD:PUBLISH
X-ORIGINAL-URL:https://www.mos-irs.org
X-WR-CALDESC:Events for Military Outreach for Service
REFRESH-INTERVAL;VALUE=DURATION:PT1H
X-Robots-Tag:noindex
X-PUBLISHED-TTL:PT1H
BEGIN:VTIMEZONE
TZID:America/New_York
BEGIN:DAYLIGHT
TZOFFSETFROM:-0500
TZOFFSETTO:-0400
TZNAME:EDT
DTSTART:20180311T070000
END:DAYLIGHT
BEGIN:STANDARD
TZOFFSETFROM:-0400
TZOFFSETTO:-0500
TZNAME:EST
DTSTART:20181104T060000
END:STANDARD
BEGIN:DAYLIGHT
TZOFFSETFROM:-0500
TZOFFSETTO:-0400
TZNAME:EDT
DTSTART:20190310T070000
END:DAYLIGHT
BEGIN:STANDARD
TZOFFSETFROM:-0400
TZOFFSETTO:-0500
TZNAME:EST
DTSTART:20191103T060000
END:STANDARD
BEGIN:DAYLIGHT
TZOFFSETFROM:-0500
TZOFFSETTO:-0400
TZNAME:EDT
DTSTART:20200308T070000
END:DAYLIGHT
BEGIN:STANDARD
TZOFFSETFROM:-0400
TZOFFSETTO:-0500
TZNAME:EST
DTSTART:20201101T060000
END:STANDARD
BEGIN:DAYLIGHT
TZOFFSETFROM:-0500
TZOFFSETTO:-0400
TZNAME:EDT
DTSTART:20210314T070000
END:DAYLIGHT
BEGIN:STANDARD
TZOFFSETFROM:-0400
TZOFFSETTO:-0500
TZNAME:EST
DTSTART:20211107T060000
END:STANDARD
END:VTIMEZONE
BEGIN:VEVENT
DTSTART;TZID=America/New_York:20201104T140000
DTEND;TZID=America/New_York:20201104T150000
DTSTAMP:20260420T055118
CREATED:20201030T131744Z
LAST-MODIFIED:20201030T131744Z
UID:1631-1604498400-1604502000@www.mos-irs.org
SUMMARY:Vision: Veterans in Focus
DESCRIPTION:Please join us on Wednesday\, November 4\, at 2:00 p.m. ET to celebrate Veterans Day. \nThis year’s program\, Vision: Veterans in Focus\, will be held virtually through webcast. The featured keynote address will be given by Dr. Paul R. Lawrence\, Undersecretary for Benefits\, Veterans Benefits Administration. \nJoin Commissioner Chuck Rettig and other IRS senior leaders to celebrate the men and women who served\, and continue to serve\, our great nation. The IRS is fortunate to have nearly 8\,000 veterans serving in our ranks\, almost 10 percent of our workforce.
URL:https://www.mos-irs.org/event/vision-veterans-in-focus/
LOCATION:Webcast
CATEGORIES:National
END:VEVENT
BEGIN:VEVENT
DTSTART;TZID=America/New_York:20200130T130000
DTEND;TZID=America/New_York:20200130T140000
DTSTAMP:20260420T055119
CREATED:20200117T130112Z
LAST-MODIFIED:20200117T130112Z
UID:1316-1580389200-1580392800@www.mos-irs.org
SUMMARY:IRS Veterans Town Hall
DESCRIPTION:The IRS is proud of our over 7\,000 military veterans who have served or are still serving our country. As a veteran\, you’re encouraged to join the Benefits and Services Team (BeST) for fiscal year 20’s first veterans town hall on January 30\, via Saba meeting. The town hall will include a presentation on military buy back for federal employees.
URL:https://www.mos-irs.org/event/irs-veterans-town-hall/
LOCATION:Saba Virtual Environment
CATEGORIES:External,National
ORGANIZER;CN="Tawanda Giles":MAILTO:tawanda.k.giles@irs.gov
END:VEVENT
BEGIN:VEVENT
DTSTART;TZID=America/New_York:20190530T130000
DTEND;TZID=America/New_York:20190530T143000
DTSTAMP:20260420T055119
CREATED:20190426T133844Z
LAST-MODIFIED:20190426T133844Z
UID:651-1559221200-1559226600@www.mos-irs.org
SUMMARY:FY19 3rd Quarter Veterans Town Hall (2nd session)
DESCRIPTION:On May 30th from 1:00pm to 2:30pm (Eastern)\, join Deputy Commissioner Jeff Tribiano\, and employees of the Veterans’ Program Office\, along with leadership from MOS; for the 3rd Quarter Veterans Town Hall (2nd session).
URL:https://www.mos-irs.org/event/fy19-3rd-quarter-veterans-town-hall2/
LOCATION:Saba Virtual Environment
CATEGORIES:National
ORGANIZER;CN="Tawanda Giles":MAILTO:tawanda.k.giles@irs.gov
END:VEVENT
BEGIN:VEVENT
DTSTART;TZID=America/New_York:20190515T130000
DTEND;TZID=America/New_York:20190515T143000
DTSTAMP:20260420T055119
CREATED:20190403T201055Z
LAST-MODIFIED:20190426T133924Z
UID:287-1557925200-1557930600@www.mos-irs.org
SUMMARY:FY19 3rd Quarter Veterans Town Hall (1st session)
DESCRIPTION:On May 15th from 1:00pm to 2:30pm (Eastern)\, join Deputy Commissioner Jeff Tribiano\, and employees of the Veterans’ Program Office\, along with leadership from MOS; for the 3rd Quarter Veterans Town Hall.
URL:https://www.mos-irs.org/event/irs-fy19-3rd-quarter-veterans-town-hall/
LOCATION:Saba Virtual Environment
CATEGORIES:National
ORGANIZER;CN="Tawanda Giles":MAILTO:tawanda.k.giles@irs.gov
END:VEVENT
END:VCALENDAR